BEGIN:VCALENDAR
VERSION:2.0
PRODID:-//wp-events-plugin.com//7.2.3.1//EN
BEGIN:VEVENT
UID:60@saengerbund-obergrombach.de
DTSTART:20241226T083000Z
DTEND:20241226T093000Z
DTSTAMP:20241220T164855Z
URL:https://saengerbund-obergrombach.de/veranstaltungen-2/weihnachtsgottes
 dienst-8/
SUMMARY:Weihnachtsgottesdienst
DESCRIPTION:Traditionell begleitet der Sängerbund Obergrombach den Gottesd
 ienst in der katholischen Kirche St. Michael in Obergrombach am zweiten We
 ihnachtsfeiertag musikalisch. So werden die VocalLadys und die VoiceMen au
 ch dieses Jahr wieder weihnachtliche und sakrale Lieder vortragen.
ATTACH;FMTTYPE=image/jpeg:https://saengerbund-obergrombach.de/wp-content/u
 ploads/2015/11/M-130_Weihnacht_20131226_77.jpg
LOCATION:Kath. Pfarrkirche St. Martin Obergrombach\, Hauptstraße\, Bruchsa
 l - Obergrombach\, 76646\, Deutschland
GEO:49.07724850954092;8.586289575115984
X-APPLE-STRUCTURED-LOCATION;VALUE=URI;X-ADDRESS=Hauptstraße\, Bruchsal - O
 bergrombach\, 76646\, Deutschland;X-APPLE-RADIUS=100;X-TITLE=Kath. Pfarrki
 rche St. Martin Obergrombach:geo:49.07724850954092,8.586289575115984
END:VEVENT
END:VCALENDAR