BEGIN:VCALENDAR
VERSION:2.0
PRODID:-//wp-events-plugin.com//7.2.3.1//EN
BEGIN:VEVENT
UID:17@saengerbund-obergrombach.de
DTSTART:20161016T140000Z
DTEND:20161016T160000Z
DTSTAMP:20160928T072735Z
URL:https://saengerbund-obergrombach.de/veranstaltungen-2/singen-auf-dem-m
 ichaelsberg/
SUMMARY:Singen auf dem Michaelsberg
DESCRIPTION:Bei gutem Wetter will der Sängerbund Obergrombach am Sonntag\,
  dem 16.10. den Michaelsberg besteigen und ihn sowie die Michaelsbergkapel
 le auf ihre klanglichen Qualitäten prüfen. Ab 16:00 Uhr geht es mit unte
 rschiedlichsten Liedern los: So planen wir z.B. gregorianischen Gesang in 
 der Kapelle und erwarten einen wunderbaren Klang. Draußen probieren wir e
 inen Kanon bei dem das Publikum gerne mitsingen darf. Sowohl der Männerch
 or als auch der Frauenchor des Sängerbundes werden auftreten. Hoffen wir 
 also auf gutes Wetter. Beim Aufruf unserer Webseite „www.saengerbund-obe
 rgrombach.de“ wird rechtzeitig angezeigt werden\, ob das Wetter hält. A
 lle Michaelsbergbesucher sind herzlich eingeladen zuzuhören und mitzumach
 en. Hört doch mal rein ...
ATTACH;FMTTYPE=image/jpeg:https://saengerbund-obergrombach.de/wp-content/u
 ploads/2016/09/Michaelsberg.jpg
LOCATION:Michaelsberg\, Michaelsbergstraße 55\, Bruchsal-Untergrombach\, 7
 6646\, Deutschland
GEO:49.0900371;8.558229500000039
X-APPLE-STRUCTURED-LOCATION;VALUE=URI;X-ADDRESS=Michaelsbergstraße 55\, Br
 uchsal-Untergrombach\, 76646\, Deutschland;X-APPLE-RADIUS=100;X-TITLE=Mich
 aelsberg:geo:49.0900371,8.558229500000039
END:VEVENT
END:VCALENDAR