BEGIN:VCALENDAR
VERSION:2.0
PRODID:-//wp-events-plugin.com//7.2.3.1//EN
BEGIN:VEVENT
UID:39@saengerbund-obergrombach.de
DTSTART:20190713T180000Z
DTEND:20190713T200000Z
DTSTAMP:20190628T170542Z
URL:https://saengerbund-obergrombach.de/veranstaltungen-2/proms-2019-karls
 ruhe/
SUMMARY:PROMS 2019 Karlsruhe
DESCRIPTION:Die 6. Karlsruher PROMS steht unter dem Motto “Von Weber bis 
 Webber”. Das Programm ist wieder recht vielfältig. So wird dieses Jahr 
 ein Männerchor aus 150 Sängern auftreten und aus Wagners Tannhäuser den
  berühmten Pilgerchor "Beglückt darf nun dich\, o Heimat\, ich schauen"
  singen. Des weiteren bietet der Männerchor "The Awakening" von Joseph M.
  Martin dar. Am Männerchor beteiligen sich unser Sängerbund Obergrombach
 \, die Männerstimmen Malsch\, der MGV Ötigheim\, sowie die Männer von p
 roVocal und vom Badischen Jugendchor.\n\nKarten können bei der DHBW und b
 ei den beteiligten Sängern bestellt werden.\n\n
ATTACH;FMTTYPE=image/jpeg:https://saengerbund-obergrombach.de/wp-content/u
 ploads/2016/01/Proms-2016-DHWB-Orchester.jpg
CATEGORIES:Konzert,Männerchor
LOCATION:Kongresszentrum Karlsruhe - Konzerthaus Großer Saal\, Festplatz 9
 \, 76137 Karlsruhe\, Deutschland
GEO:49.00239999999999;8.399980000000028
X-APPLE-STRUCTURED-LOCATION;VALUE=URI;X-ADDRESS=Festplatz 9\, 76137 Karlsru
 he\, Deutschland;X-APPLE-RADIUS=100;X-TITLE=Kongresszentrum Karlsruhe - Ko
 nzerthaus Großer Saal:geo:49.00239999999999,8.399980000000028
END:VEVENT
END:VCALENDAR