BEGIN:VCALENDAR
VERSION:2.0
PRODID:-//wp-events-plugin.com//7.2.3.1//EN
BEGIN:VEVENT
UID:46@saengerbund-obergrombach.de
DTSTART:20221213T163000Z
DTEND:20221213T173000Z
DTSTAMP:20221028T203728Z
URL:https://saengerbund-obergrombach.de/veranstaltungen-2/offene-weihnacht
 schorprobe/
SUMMARY:offene Weihnachtschorprobe
DESCRIPTION:\n\nWir laden Singbegeisterte herzlich ein\, an einer offenen W
 eihnachtschorprobe am Di\, 13. Dezember\, um 18.30 Uhr im Gartencenter Hec
 kert in Bruchsal-Untergrombach mit unseren beiden Chören und unserem Chor
 leiter Matthias Böhringer zwei bekannte Weihnachtslieder einzuüben: "Win
 ter Wonderland" und "All I want for Christmas is You". Danach werden wir d
 en Abend mit dem gemeinsamen Singen bekannter Weihnachtslieder gemütlich 
 ausklingen lassen.\n\nSingle\, Paar oder Clique\, mit oder ohne Chorerfahr
 ung – come as you are!\n\nAlles ist kostenlos und völlig unverbindlich.
 \nAnmeldung erwünscht\, aber nicht zwingend an\nSaengerbund.obergrombach@
 gmail.com oder\nTel. 0174 9 50 50 55\n&nbsp\;\n\nDie Halle in der die Prob
 en stattfinden ist sehr groß\, so dass Sängerinnen und Sänger bei Bedar
 f  Abstand voneinander halten können. Die Halle vefügt nur über einen 
 Frostschutz bei 5°C\, sollte der Herbst kühler werden\, bitte warm anzie
 hen! Es stehen keine Sitzgelegenheiten zur Verfügung. Wer nicht etwa eine
  Stunde im Stehen proben kann\, bringe sich einen Klappstuhl oder andere S
 itzgelegenheit mit. Toiletten stehen zur Verfügung.\n\n[caption id="attac
 hment_4468" align="alignnone" width="1200"] Ein Eindruck von der Gartencen
 terhalle[/caption]\n\nAusschlaggebend für die Wahl des Heckert Gartencent
 ers war das passende weihnachtliche Ambiente mit Weihnachtsdekorationen un
 d einem Meer an Blumen. Mit der richtigen Umgebung klingen die Lieder dann
  auch gleich viel stimmungsvoller!\n\n[caption id="attachment_4474" align=
 "alignnone" width="1228"] Ein Meer an Blumen[/caption]
ATTACH;FMTTYPE=image/jpeg:https://saengerbund-obergrombach.de/wp-content/u
 ploads/2022/10/Weihnacht-2022-Blog-Bild.jpg
LOCATION:Gartencenter Heckert\, Im Schollengarten 39\, Bruchsal\, 76646\, D
 eutschland
X-APPLE-STRUCTURED-LOCATION;VALUE=URI;X-ADDRESS=Im Schollengarten 39\, Bruc
 hsal\, 76646\, Deutschland;X-APPLE-RADIUS=100;X-TITLE=Gartencenter Heckert
 :geo:0,0
END:VEVENT
END:VCALENDAR