BEGIN:VCALENDAR
VERSION:2.0
PRODID:-//wp-events-plugin.com//7.2.3.1//EN
BEGIN:VEVENT
UID:33@saengerbund-obergrombach.de
DTSTART:20181117T180000Z
DTEND:20181117T210000Z
DTSTAMP:20181017T060958Z
URL:https://saengerbund-obergrombach.de/veranstaltungen-2/mens-night-folk-
 music-in-weingarten/
SUMMARY:Men's Night "Folk Music" in Weingarten
DESCRIPTION:Du bist ein Mann und wolltest immer schon einmal singen? Dann b
 ist du hier richtig!\nMach mit bei der Men‘s Night in Weingarten!\nNach 
 dem Erfolg der Bruchsaler Men's Night im Egans' Irish Pub in Bruchsal\, st
 artet nun eine weitere Men's Night mit dem Titel "Folk Music"\, diesmal ab
 er im Gasthaus "Zum goldenen Löwen" in Weingarten.\nDazu suchen wir inter
 essierte Männer\, die gerne singen oder es lernen möchten. In vier Probe
 n mit Matthias Böhringer werden dabei vier Songs eingeübt:\nWhiskey in t
 he Jar\nGreensleeves\n Country Roads\nYou raise me up\nZusammen mit dem M
 ännerchor werden die Stücke dann im Saal des Gasthaus "Löwen" aufgefüh
 rt werden. Die Teilnahme an den Proben ist völlig unverbindlich und koste
 nlos\, man kann einfach an den Probeterminen teilnehmen. Die vier Proben f
 inden in Weingarten im Gasthaus "Zum goldenen Löwen"\, Marktplatz 15 stat
 t.\nProbentermine:\njeweils dienstags um 20:15 Uhr am\n23.10.2018\,\n30.10
 .2018\,\n06.11.2018 und\n13.11.2018.\n\nWer mag\, kann auf unserer Seite "
 Stimmlage und Gesang" vorab testen in welcher Lage man am besten singt.\nA
 uftritt auf der Men's Night in Weingarten\nAm 17.11.2018 um 20:00 Uhr gibt
  es dann einen Auftritt im "Löwen"\, der uns seinen gut klingenden Saal -
  in dem auch die Weingartener Musiktage stattfinden - zur Verfügung stell
 t.. Der Männerchor wird hier auftreten und in einem eigenen Block werden 
 die vier geübten Lieder zusammen mit dem Männerchor aufgeführt. Eine Ba
 nd wird uns dabei begleiten.\n\n[caption id="attachment_3386" align="align
 none" width="600"] Gas Gasthaus "Zum goldenen Löwen" in Weingartren[/capt
 ion]\n\n[caption id="attachment_3385" align="alignnone" width="1280"] Der 
 Saal für Musikveranstaltungen[/caption]\nEintritt:\nFür Konzert und eine
  kaltes Buffet wird ein Eintritt von 10 € erhoben (Projektsänger haben 
 freien Eintritt)\nKarten gibt es an der Abendkasse oder vorab bei den Sän
 gern und Sängerinnen des Sängerbundes.\nInformation:\nFridtjof Feldbusch
 : Tel.: 0151-22893304\noder bei allen Sängern des Sängerbundes\noder üb
 er unser Kontaktformular\n\nUnser Flyer zum Herunterladen: Flyer Folk Mus
 ic in Weingarten\n\n\n\n\n\n&nbsp\;
ATTACH;FMTTYPE=image/jpeg:https://saengerbund-obergrombach.de/wp-content/u
 ploads/2018/09/Schild-klein.jpg
CATEGORIES:Konzert,Männerchor
LOCATION:Zum goldenen Löwen\, Marktplatz 15\, Weingarten\, 76356\, Deutsch
 land
GEO:49.0507071;8.532070100000055
X-APPLE-STRUCTURED-LOCATION;VALUE=URI;X-ADDRESS=Marktplatz 15\, Weingarten\
 , 76356\, Deutschland;X-APPLE-RADIUS=100;X-TITLE=Zum goldenen Löwen:geo:4
 9.0507071,8.532070100000055
END:VEVENT
END:VCALENDAR