BEGIN:VCALENDAR
VERSION:2.0
PRODID:-//wp-events-plugin.com//7.2.3.1//EN
BEGIN:VEVENT
UID:54@saengerbund-obergrombach.de
DTSTART:20231021T170000Z
DTEND:20231021T183000Z
DTSTAMP:20230828T100551Z
URL:https://saengerbund-obergrombach.de/veranstaltungen-2/kirchenkonzert-i
 n-obergrombach/
SUMMARY:Kirchenkonzert in Obergrombach
DESCRIPTION:Am 21. Oktober um 19 Uhr findet das Kirchenkonzert "Spirit of M
 usic" in der Pfarrkirche St. Martin in Obergrombach statt. Das Konzert wir
 d gemeinsam veranstaltet vom Sängerbund und vom Hauptorchester des Musikv
 erein "Eintracht" Obergrombach . Musikalische Leitung Stefan Degen und Mat
 thias Böhringer. Ein erneutes tolles Beispiel für die gute Zusammenarbei
 t der Obergrombacher Vereine. Die Musikauswahl passend zum sakralen Konzer
 traum\, eine tolle Akustik - lasst Euch begeistern. Wir freuen uns schon r
 ichtig darauf\, uns gemeinsam mit dem MVO "zu Hause" im Konzert präsentie
 ren zu können. Eintritt frei\, Spende erwünscht.
ATTACH;FMTTYPE=image/jpeg:https://saengerbund-obergrombach.de/wp-content/u
 ploads/2023/08/Kirchenkonzert-2023-mit-Logos.jpg
CATEGORIES:Frauenchor,Konzert,Männerchor
LOCATION:Kath. Pfarrkirche St. Martin Obergrombach\, Hauptstraße\, Bruchsa
 l - Obergrombach\, 76646\, Deutschland
GEO:49.07724850954092;8.586289575115984
X-APPLE-STRUCTURED-LOCATION;VALUE=URI;X-ADDRESS=Hauptstraße\, Bruchsal - O
 bergrombach\, 76646\, Deutschland;X-APPLE-RADIUS=100;X-TITLE=Kath. Pfarrki
 rche St. Martin Obergrombach:geo:49.07724850954092,8.586289575115984
END:VEVENT
END:VCALENDAR