BEGIN:VCALENDAR
VERSION:2.0
PRODID:-//wp-events-plugin.com//7.2.3.1//EN
BEGIN:VEVENT
UID:19@saengerbund-obergrombach.de
DTSTART:20170311T173000Z
DTEND:20170311T200000Z
DTSTAMP:20170317T102741Z
URL:https://saengerbund-obergrombach.de/veranstaltungen-2/bruchsaler-mens-
 night/
SUMMARY:Bruchsaler Men's Night
DESCRIPTION:Du bist ein Mann und wolltest immer schon einmal singen? Dann b
 ist du hier richtig!\nMach mit bei der Bruchsaler Men‘s Night!\nWir sing
 en da wo Männer gerne sind: In einer historischen Wirtschaft.\nWir singen
  modern\, wie z.B. Titelmelodien von James Bond: Da sind die Zuhörer ger
 ührt und nicht geschüttelt!\nUnd wir suchen interessierte Männer\, die 
 gerne singen oder es lernen möchten. In vier Singstunden mit Matthias Bö
 hringer werden drei Songs geprobt:\nLive and let die (Beatles\, bekannt au
 s James Bond)\nNew York\, New York (Frank Sinatra)\nYou‘ll never walk al
 one (bekannt aus Fußballstadien)\nFür die erfolgreiche Teilnahme wird au
 f dem "Bruchsaler Men's Night"-Konzert im Schloss die "Die Lizenz zum Sing
 en" überreicht. Die Teilnahme an den Proben ist völlig unverbindlich und
  kostenlos\, man kann einfach an den Probeterminen teilnehmen. Die ersten 
 Proben finden im Gymnasium St. Paulusheim\, Huttenstr. 49 statt. Der Zugan
 g zum Innenhof befindet sich in der Steighohle.\nProbentermine:\n07.02.201
 7 um 20:15 Uhr im Gymnasium St. Paulusheim - Musiksaal\n14.02.2017 um 20:1
 5 Uhr im Gymnasium St. Paulusheim - Musiksaal\n21.02.2017 um 20:15 Uhr im 
 Gymnasium St. Paulusheim - Musiksaal\n07.03.2017 um 20:15 Uhr Generalprobe
  in der "Alten Wirtschaft" im Schloss Bruchsal\n\nDie Probe vom 21.2. wurd
 e vom KraichgauTV aufgenommen und kann hier angesehen werden:\n\n\nWer mag
 \, kann auf unserer Seite "Stimmlage und Gesang" vorab testen in welcher L
 age man am besten singt.\n\n[caption id="attachment_2652" align="alignleft
 " width="1500"] Der gemütliche Teil der "Alten Wirtschaft" im Schloss[/ca
 ption]\nAuftritt auf der Bruchsaler Men's Night\nAm 11.03.2017 um 19:30 Uh
 r gibt es dann ein Konzert in der "Alten Wirtschaft" im Schloss Bruchsal. 
 Der Männerchor wird hier auftreten und in einem eigenen Block werden die 
 drei geübten Lieder zusammen mit dem Männerchor aufgeführt. Der Auftrit
 t erfolgt in dem gemütlichen Ambiente der "Alten Wirtschaft" die sich im 
 Musikautomatenmuseum im Schloss befindet.\n\nEinen Film von der Bruchsaler
  Men's Night gibt es auf KraichgauTV:\n\nProgramm:\n19:00 Uhr Einlass\n19:
 30 Uhr Konzert\n20:15 Uhr Snacks\nanschließend: Verleihung der Lizenzen u
 nd gemütliches Beisammensein\n\nEintritt: 8\,-€ incl. Snacks\n\n[capti
 on id="attachment_2651" align="alignleft" width="1500"] Die Bühne der "Al
 ten Wirtschaft" im Schloss[/caption]\n\nKarten und Information:\nSteffen H
 ardock: Tel.: 07257 / 929766\noder bei allen Sängern des Sängerbundes\no
 der über unser Kontaktformular\nAlle Karten zur Bruchsaler Men's Night si
 nd inzwischen reserviert bzw. ausverkauft!
ATTACH;FMTTYPE=image/jpeg:https://saengerbund-obergrombach.de/wp-content/u
 ploads/2016/11/Koch-Web2-M.jpg
CATEGORIES:Konzert,Männerchor
LOCATION:Bruchsaler Schloss\, Im Schlossraum 2\, Bruchsal\, 76646\, Deutsch
 land
GEO:49.12834;8.598569999999995
X-APPLE-STRUCTURED-LOCATION;VALUE=URI;X-ADDRESS=Im Schlossraum 2\, Bruchsal
 \, 76646\, Deutschland;X-APPLE-RADIUS=100;X-TITLE=Bruchsaler Schloss:geo:4
 9.12834,8.598569999999995
END:VEVENT
END:VCALENDAR