BEGIN:VCALENDAR
VERSION:2.0
PRODID:-//wp-events-plugin.com//7.2.3.1//EN
BEGIN:VEVENT
UID:53@saengerbund-obergrombach.de
DTSTART:20230715T190000Z
DTEND:20230715T210000Z
DTSTAMP:20230712T120928Z
URL:https://saengerbund-obergrombach.de/veranstaltungen-2/bruchsaler-mens-
 night-im-egans-pub/
SUMMARY:Bruchsaler Men's Night im Egan's Pub
DESCRIPTION:Du bist ein Mann und wolltest immer schon einmal singen? Dann b
 ist du hier richtig!\nMach mit bei der Bruchsaler Men‘s Night!\nNach dem
  Erfolg der bisherigen Bruchsaler Men's Nights\, startet nun unsere fünft
 e Men's Night mit dem Titel "Folk Music"\, wobei der Schwerpunkt "Irish Fo
 lk" ist.\nDazu suchen wir interessierte Männer\, die gerne singen oder es
  lernen möchten. In vier Proben mit Matthias Böhringer werden dabei vier
  Songs eingeübt:\nSantiano\nWhiskey in the Jar\nThe Parting Glass\nZusamm
 en mit dem Männerchor werden die Stücke dann im EGAN'S Irish Pub aufgef
 ührt werden. Die Teilnahme an den Proben ist völlig unverbindlich und ko
 stenlos\, man kann einfach an den Probeterminen teilnehmen. Die vier Probe
 n finden im Clubhaus des FC Obergrombach in der Helmsheimer Strasse 51 sta
 tt.\nProbentermine:\njeweils dienstags um 20:15 Uhr am\n20.06.2023\,\n27.0
 6.2023\,\n04.07.2023 und\n11.07.2023.\n\nWer mag\, kann auf unserer Seite 
 "Stimmlage und Gesang" vorab testen in welcher Lage man am besten singt.\n
 \nDer erfolgreiche Testlauf im EGAN's wurde im Video festgehalten:\n\n[emb
 edyt] https://www.youtube.com/watch?v=pmKApbVbGaw[/embedyt]\nAuftritt auf 
 der Bruchsaler Men's Night\nAm 15.07.2023 um 20:00 21:00 Uhr gibt es dann 
 einen Auftritt im EGAN's Irish Pub\, einem echten irischen Lokal in der Ba
 hnhofplatz 12 in Bruchsal. Der Männerchor wird hier auftreten und in eine
 m eigenen Block werden die drei geübten Lieder zusammen mit dem Männerch
 or aufgeführt.\n\n[caption id="attachment_3141" align="alignleft" width="
 1500"] Hier geht es zum EGAN's[/caption]\n\n\n[caption id="attachment_3142
 " align="alignleft" width="1500"] Die urige Atmosphäre im EAGAN's[/captio
 n]\n\n\nInformation:\nDietmar Gretter: Tel.: 0174 9 50 50 55\noder bei all
 en Sängern des Sängerbundes\noder über unser Kontaktformular\n\nUnser F
 lyer zum Herunterladen: Men's Night 2023
ATTACH;FMTTYPE=image/jpeg:https://saengerbund-obergrombach.de/wp-content/u
 ploads/2023/06/Mens-Night-Egans-2023.jpg
CATEGORIES:Konzert,Männerchor
LOCATION:EGAN's Irish Pub\, Bahnhofplatz 12\, 76646 Bruchsal\, Deutschland
GEO:49.12299289970592;8.589276433837881
X-APPLE-STRUCTURED-LOCATION;VALUE=URI;X-ADDRESS=Bahnhofplatz 12\, 76646 Bru
 chsal\, Deutschland;X-APPLE-RADIUS=100;X-TITLE=EGAN's Irish Pub:geo:49.122
 99289970592,8.589276433837881
END:VEVENT
END:VCALENDAR