BEGIN:VCALENDAR
VERSION:2.0
PRODID:-//wp-events-plugin.com//7.2.3.1//EN
BEGIN:VEVENT
UID:16@saengerbund-obergrombach.de
DTSTART:20151215T163000Z
DTEND:20151215T163000Z
DTSTAMP:20151126T200921Z
URL:https://saengerbund-obergrombach.de/veranstaltungen-2/adventsfeier/
SUMMARY:Adventsfeier
DESCRIPTION:Freunde\, Interessierte\, Familien und natürlich die Sänger\,
  Dirigenten und Musiker sind herzlich zu einer gemütlichen Adventsfeier i
 m Pfarrzentrum Obergrombach eingeladen. Es ist eine gute Gelegenheit uns b
 esser kennenzulernen\, weihnachtliches Gebäck zu naschen und das eigene R
 epertoire an Weihnachtsliedern wieder aufzufrischen - die ideale Vorbereit
 ung für's Fest!\nEinlass: 18:00 Uhr\nBeginn:18:30 Uhr
ATTACH;FMTTYPE=image/jpeg:https://saengerbund-obergrombach.de/wp-content/u
 ploads/2015/11/adventsfeier_2015m.jpg
LOCATION:Kath. Pfarrzentrum\, Gustav-von-Bohlen-Str. 11\, 76646 Bruchsal\, 
 Deutschland
GEO:49.07658;8.58068000000003
X-APPLE-STRUCTURED-LOCATION;VALUE=URI;X-ADDRESS=Gustav-von-Bohlen-Str. 11\,
  76646 Bruchsal\, Deutschland;X-APPLE-RADIUS=100;X-TITLE=Kath. Pfarrzentru
 m:geo:49.07658,8.58068000000003
END:VEVENT
END:VCALENDAR